BEGIN:VCALENDAR
VERSION:2.0
PRODID:-//OmniMagnetCalendar//EN
BEGIN:VEVENT
DTSTAMP:20190625T195740Z
STATUS:CONFIRMED
UID:hcvictoria.clubs.harvard.edu265
DTSTART:20160510T083000Z
DTEND:20160510T103000Z
LOCATION:Palais Theatre, Lower Esplanade, St Kilda, VIC, Australia,
SUMMARY:Behind the Scenes tour of the Palais Theatre and drinks
DESCRIPTION:
BEGIN:VALARM
TRIGGER:-PT15M
ACTION:DISPLAY
END:VALARM
TRANSP:OPAQUE
END:VEVENT
END:VCALENDAR
