BEGIN:VCALENDAR
VERSION:2.0
PRODID:-//OmniMagnetCalendar//EN
BEGIN:VEVENT
DTSTAMP:20190625T195740Z
STATUS:CONFIRMED
UID:hcvictoria.clubs.harvard.edu267
DTSTART:20160518T080000Z
DTEND:20160518T093000Z
LOCATION:Melbourne Law School, 185 Pelham St, Carlton, VIC,
SUMMARY:Harvard Professor Sheila Jasanoff will give the public lecture
DESCRIPTION:Citizens of the Anthropocene: community and polity in a changing climate’
BEGIN:VALARM
TRIGGER:-PT15M
ACTION:DISPLAY
END:VALARM
TRANSP:OPAQUE
END:VEVENT
END:VCALENDAR
