BEGIN:VCALENDAR
VERSION:2.0
PRODID:-//OmniMagnetCalendar//EN
BEGIN:VEVENT
DTSTAMP:20190625T195740Z
STATUS:CONFIRMED
UID:hcvictoria.clubs.harvard.edu271
DTSTART:20160825T230000Z
DTEND:20160826T070000Z
LOCATION:EY Offices, 8 Exhibition St, Melbourne, VIC,
SUMMARY:Business Innovation Series
DESCRIPTION:In support of the HCV Non-Profit Fellowship
BEGIN:VALARM
TRIGGER:-PT15M
ACTION:DISPLAY
END:VALARM
TRANSP:OPAQUE
END:VEVENT
END:VCALENDAR
