BEGIN:VCALENDAR
VERSION:2.0
PRODID:-//OmniMagnetCalendar//EN
BEGIN:VEVENT
DTSTAMP:20190625T195740Z
STATUS:CONFIRMED
UID:hcvictoria.clubs.harvard.edu273
DTSTART:20160723T230000Z
DTEND:20160729T070000Z
LOCATION:Sydney Conference and Training Centre,
SUMMARY:The HCA 19th Annual Leadership Program 2016 (Sydney)
DESCRIPTION:Strategic Finance – helping leaders make better business decisions
BEGIN:VALARM
TRIGGER:-PT15M
ACTION:DISPLAY
END:VALARM
TRANSP:OPAQUE
END:VEVENT
END:VCALENDAR
