BEGIN:VCALENDAR
VERSION:2.0
PRODID:-//OmniMagnetCalendar//EN
BEGIN:VEVENT
DTSTAMP:20190625T195740Z
STATUS:CONFIRMED
UID:hcvictoria.clubs.harvard.edu274
DTSTART:20160527T093000Z
DTEND:20160528T070000Z
LOCATION:Sydney,
SUMMARY:Harvard Club of Australia Non-Profit Leadership Program 2016 (Sydney)
DESCRIPTION:Developing Strategy and Measuring Impact
BEGIN:VALARM
TRIGGER:-PT15M
ACTION:DISPLAY
END:VALARM
TRANSP:OPAQUE
END:VEVENT
END:VCALENDAR
