BEGIN:VCALENDAR
VERSION:2.0
PRODID:-//OmniMagnetCalendar//EN
BEGIN:VEVENT
DTSTAMP:20190625T195740Z
STATUS:CONFIRMED
UID:hcvictoria.clubs.harvard.edu275
DTSTART:20160726T080000Z
DTEND:20160726T100000Z
LOCATION:Apartment 1002, 201 Collins St, Melbourne, VIC, 3000, Australia,
SUMMARY:Recent graduates and new members drinks
DESCRIPTION:
BEGIN:VALARM
TRIGGER:-PT15M
ACTION:DISPLAY
END:VALARM
TRANSP:OPAQUE
END:VEVENT
END:VCALENDAR
