BEGIN:VCALENDAR
VERSION:2.0
PRODID:-//OmniMagnetCalendar//EN
BEGIN:VEVENT
DTSTAMP:20190625T195740Z
STATUS:CONFIRMED
UID:hcvictoria.clubs.harvard.edu280
DTSTART:20161013T063000Z
DTEND:20161013T104500Z
LOCATION:Etihad Stadium, 740 Bourke St, Docklands, VIC, 3008, Australia,
SUMMARY:HCV Annual Dinner
DESCRIPTION:
BEGIN:VALARM
TRIGGER:-PT15M
ACTION:DISPLAY
END:VALARM
TRANSP:OPAQUE
END:VEVENT
END:VCALENDAR
