BEGIN:VCALENDAR
VERSION:2.0
PRODID:-//OmniMagnetCalendar//EN
BEGIN:VEVENT
DTSTAMP:20190625T195740Z
STATUS:CONFIRMED
UID:hcvictoria.clubs.harvard.edu281
DTSTART:20161006T063000Z
DTEND:20161006T093000Z
LOCATION:Egon Zehnder- Melbourne, Level 10, 171 Collins St, Melbourne, VIC, 3000, Australia,
SUMMARY:International Business Schools Event - Digital Disruption in the Media
DESCRIPTION:
BEGIN:VALARM
TRIGGER:-PT15M
ACTION:DISPLAY
END:VALARM
TRANSP:OPAQUE
END:VEVENT
END:VCALENDAR
