BEGIN:VCALENDAR
VERSION:2.0
PRODID:-//OmniMagnetCalendar//EN
BEGIN:VEVENT
DTSTAMP:20190625T195740Z
STATUS:CONFIRMED
UID:hcvictoria.clubs.harvard.edu286
DTSTART:20161110T071500Z
DTEND:20161110T090000Z
LOCATION:Leadership Victoria,Old Treasury Building, 20 Spring Street (at the end of Collins Street), Melbourne, Vic, 3000, Australia,
SUMMARY:HCV Non-Profit Fellowship Briefing Session
DESCRIPTION:
BEGIN:VALARM
TRIGGER:-PT15M
ACTION:DISPLAY
END:VALARM
TRANSP:OPAQUE
END:VEVENT
END:VCALENDAR
