BEGIN:VCALENDAR
VERSION:2.0
PRODID:-//OmniMagnetCalendar//EN
BEGIN:VEVENT
DTSTAMP:20190625T195740Z
STATUS:CONFIRMED
UID:hcvictoria.clubs.harvard.edu289
DTSTART:20161128T000000Z
DTEND:20161128T020000Z
LOCATION:ShineWing Australia, Level 10, 530 Collins St, Melbourne, VIC, 3000,
SUMMARY:The 5 Biggest Opportunities for Australian Business in China
DESCRIPTION:
BEGIN:VALARM
TRIGGER:-PT15M
ACTION:DISPLAY
END:VALARM
TRANSP:OPAQUE
END:VEVENT
END:VCALENDAR
