BEGIN:VCALENDAR
VERSION:2.0
PRODID:-//OmniMagnetCalendar//EN
BEGIN:VEVENT
DTSTAMP:20190625T195740Z
STATUS:CONFIRMED
UID:hcvictoria.clubs.harvard.edu296
DTSTART:20170722T140100Z
DTEND:20170727T140100Z
LOCATION:Aitken Hill Conference Centre (15 mins from Melbourne Airport),
SUMMARY:Harvard Club of Australia Program for Leaders 2017
DESCRIPTION:Digital Innovation and Leading Transformation
BEGIN:VALARM
TRIGGER:-PT15M
ACTION:DISPLAY
END:VALARM
TRANSP:OPAQUE
END:VEVENT
END:VCALENDAR
