BEGIN:VCALENDAR
VERSION:2.0
PRODID:-//OmniMagnetCalendar//EN
BEGIN:VEVENT
DTSTAMP:20190625T195740Z
STATUS:CONFIRMED
UID:hcvictoria.clubs.harvard.edu300
DTSTART:20170622T230000Z
DTEND:20170623T070000Z
LOCATION:EY Office , 8 Exhibition St, Melbourne, VIC, 3000, Australia,
SUMMARY:Business Innovation Series
DESCRIPTION:Competitive Advantage and Disruption
BEGIN:VALARM
TRIGGER:-PT15M
ACTION:DISPLAY
END:VALARM
TRANSP:OPAQUE
END:VEVENT
END:VCALENDAR
