BEGIN:VCALENDAR
VERSION:2.0
PRODID:-//OmniMagnetCalendar//EN
BEGIN:VEVENT
DTSTAMP:20190625T195740Z
STATUS:CONFIRMED
UID:hcvictoria.clubs.harvard.edu301
DTSTART:20170426T080000Z
DTEND:20170426T113000Z
LOCATION:Victorian Comprehensive Cancer Centre, Level 7, 305 Grattan Street, Melbourne, VIC, 3000, Australia,
SUMMARY:TEDxFulbrightMelbourne
DESCRIPTION:A Certain Optimism: Changing the Nature of the Game
BEGIN:VALARM
TRIGGER:-PT15M
ACTION:DISPLAY
END:VALARM
TRANSP:OPAQUE
END:VEVENT
END:VCALENDAR
