BEGIN:VCALENDAR
VERSION:2.0
PRODID:-//OmniMagnetCalendar//EN
BEGIN:VEVENT
DTSTAMP:20190625T195740Z
STATUS:CONFIRMED
UID:hcvictoria.clubs.harvard.edu302
DTSTART:20170516T020000Z
DTEND:20170516T043000Z
LOCATION:Eureka 89, 7 Riverside Quay,, Southbank, VIC, 3006, Australia,
SUMMARY:“Serving Diversity”: the Non-Profit Fellowship Lunch and Awards, May 16th at Eureka 89
DESCRIPTION:
BEGIN:VALARM
TRIGGER:-PT15M
ACTION:DISPLAY
END:VALARM
TRANSP:OPAQUE
END:VEVENT
END:VCALENDAR
