BEGIN:VCALENDAR
VERSION:2.0
PRODID:-//OmniMagnetCalendar//EN
BEGIN:VEVENT
DTSTAMP:20190625T195740Z
STATUS:CONFIRMED
UID:hcvictoria.clubs.harvard.edu305
DTSTART:20170613T023000Z
DTEND:20170613T040000Z
LOCATION:Baker McKenzie, Level 19, CBW, 181 William Street,, Melbourne, Victoria, 3000,
SUMMARY:Disruption & Innovation in the Australian Legal Industry - Latest Developments & What's Coming Next
DESCRIPTION:
BEGIN:VALARM
TRIGGER:-PT15M
ACTION:DISPLAY
END:VALARM
TRANSP:OPAQUE
END:VEVENT
END:VCALENDAR
