BEGIN:VCALENDAR
VERSION:2.0
PRODID:-//OmniMagnetCalendar//EN
BEGIN:VEVENT
DTSTAMP:20190625T195740Z
STATUS:CONFIRMED
UID:hcvictoria.clubs.harvard.edu306
DTSTART:20170601T013000Z
DTEND:20170601T040000Z
LOCATION:NAB, Level 24, 500 Bourke Street, Melbourne, Vict, 3000, Australia,
SUMMARY:ACBC China Economic and Financial Market Update
DESCRIPTION:
BEGIN:VALARM
TRIGGER:-PT15M
ACTION:DISPLAY
END:VALARM
TRANSP:OPAQUE
END:VEVENT
END:VCALENDAR
