BEGIN:VCALENDAR
VERSION:2.0
PRODID:-//OmniMagnetCalendar//EN
BEGIN:VEVENT
DTSTAMP:20190625T195740Z
STATUS:CONFIRMED
UID:hcvictoria.clubs.harvard.edu307
DTSTART:20170629T020000Z
DTEND:20170629T040000Z
LOCATION:ShineWing Australia, Level 10, 530 Collins St, Melbourne, VIC, 3000, Australia,
SUMMARY:Fintech in China and Implications for the Australian Businesses
DESCRIPTION:
BEGIN:VALARM
TRIGGER:-PT15M
ACTION:DISPLAY
END:VALARM
TRANSP:OPAQUE
END:VEVENT
END:VCALENDAR
