BEGIN:VCALENDAR
VERSION:2.0
PRODID:-//OmniMagnetCalendar//EN
BEGIN:VEVENT
DTSTAMP:20190625T195740Z
STATUS:CONFIRMED
UID:hcvictoria.clubs.harvard.edu316
DTSTART:20171019T073000Z
DTEND:20171019T113000Z
LOCATION:The Royce Hotel, 379 St Kilda Rd, Melbourne, Australia,
SUMMARY:Harvard Club of Victoria AGM and Annual Dinner
DESCRIPTION:with guest speaker Prof Brian Schmidt AC
BEGIN:VALARM
TRIGGER:-PT15M
ACTION:DISPLAY
END:VALARM
TRANSP:OPAQUE
END:VEVENT
END:VCALENDAR
