BEGIN:VCALENDAR
VERSION:2.0
PRODID:-//OmniMagnetCalendar//EN
BEGIN:VEVENT
DTSTAMP:20190625T195740Z
STATUS:CONFIRMED
UID:hcvictoria.clubs.harvard.edu317
DTSTART:20170901T010000Z
DTEND:20170901T030000Z
LOCATION:JBWere Melbourne, Level 16/101 Collins St , Melbourne, Vic, 3000, Australia,
SUMMARY:Special Invitation: Harvard Vice Provost Mark Elliott
DESCRIPTION:
BEGIN:VALARM
TRIGGER:-PT15M
ACTION:DISPLAY
END:VALARM
TRANSP:OPAQUE
END:VEVENT
END:VCALENDAR
