BEGIN:VCALENDAR
VERSION:2.0
PRODID:-//OmniMagnetCalendar//EN
BEGIN:VEVENT
DTSTAMP:20190625T195740Z
STATUS:CONFIRMED
UID:hcvictoria.clubs.harvard.edu318
DTSTART:20170907T083000Z
DTEND:20170907T103000Z
LOCATION:Collins Quarter, 86 Collins St, Melbourne, Vic, 3000,
SUMMARY:International Business School Alumni - Monthly Drinks
DESCRIPTION:
BEGIN:VALARM
TRIGGER:-PT15M
ACTION:DISPLAY
END:VALARM
TRANSP:OPAQUE
END:VEVENT
END:VCALENDAR
