BEGIN:VCALENDAR
VERSION:2.0
PRODID:-//OmniMagnetCalendar//EN
BEGIN:VEVENT
DTSTAMP:20190625T195740Z
STATUS:CONFIRMED
UID:hcvictoria.clubs.harvard.edu325
DTSTART:20171106T011500Z
DTEND:20171106T030000Z
LOCATION:JBWere Melbourne,  Level 16/101 Collins St , Melbourne, Vicroria, 3000,
SUMMARY:Tim Costello AO - 'Charity: Why it still Matters'
DESCRIPTION:
BEGIN:VALARM
TRIGGER:-PT15M
ACTION:DISPLAY
END:VALARM
TRANSP:OPAQUE
END:VEVENT
END:VCALENDAR
