BEGIN:VCALENDAR
VERSION:2.0
PRODID:-//OmniMagnetCalendar//EN
BEGIN:VEVENT
DTSTAMP:20190625T195740Z
STATUS:CONFIRMED
UID:hcvictoria.clubs.harvard.edu326
DTSTART:20171123T060000Z
DTEND:20171123T083000Z
LOCATION:Bluetrain, Southgate complex, Upper Level, Southgate, Victoria, 3000,
SUMMARY:Ivy Thanksgiving Drinks 2017
DESCRIPTION:
BEGIN:VALARM
TRIGGER:-PT15M
ACTION:DISPLAY
END:VALARM
TRANSP:OPAQUE
END:VEVENT
END:VCALENDAR
