BEGIN:VCALENDAR
VERSION:2.0
PRODID:-//OmniMagnetCalendar//EN
BEGIN:VEVENT
DTSTAMP:20190625T195740Z
STATUS:CONFIRMED
UID:hcvictoria.clubs.harvard.edu328
DTSTART:20171130T071500Z
DTEND:20171130T090000Z
LOCATION: Leadership Victoria, Old Treasury Building, 20 Spring Street, Melbourne, 3000,
SUMMARY:Opportunity for Victorian Community Sector CEOs to study at Harvard Business School
DESCRIPTION:
BEGIN:VALARM
TRIGGER:-PT15M
ACTION:DISPLAY
END:VALARM
TRANSP:OPAQUE
END:VEVENT
END:VCALENDAR
