BEGIN:VCALENDAR
VERSION:2.0
PRODID:-//OmniMagnetCalendar//EN
BEGIN:VEVENT
DTSTAMP:20190625T195740Z
STATUS:CONFIRMED
UID:hcvictoria.clubs.harvard.edu331
DTSTART:20180301T010000Z
DTEND:20180301T030000Z
LOCATION:Seminar Room @ BCG, 52/101 Collins St, Melbourne, Vic, 3000, Australia,
SUMMARY:Financing Refugees for greater economic and social benefit to Australia
DESCRIPTION:with Huy Truong
BEGIN:VALARM
TRIGGER:-PT15M
ACTION:DISPLAY
END:VALARM
TRANSP:OPAQUE
END:VEVENT
END:VCALENDAR
