BEGIN:VCALENDAR
VERSION:2.0
PRODID:-//OmniMagnetCalendar//EN
BEGIN:VEVENT
DTSTAMP:20190625T195740Z
STATUS:CONFIRMED
UID:hcvictoria.clubs.harvard.edu332
DTSTART:20180328T010000Z
DTEND:20180328T030000Z
LOCATION:Flagstaff Partners, Level 20/101 Collins St, Melbourne, VIC, 3000,
SUMMARY:The Peculiar History, and Recent Demise, of China’s One-Child Policy with Martin K. Whyte
DESCRIPTION:
BEGIN:VALARM
TRIGGER:-PT15M
ACTION:DISPLAY
END:VALARM
TRANSP:OPAQUE
END:VEVENT
END:VCALENDAR
