BEGIN:VCALENDAR
VERSION:2.0
PRODID:-//OmniMagnetCalendar//EN
BEGIN:VEVENT
DTSTAMP:20190625T195740Z
STATUS:CONFIRMED
UID:hcvictoria.clubs.harvard.edu333
DTSTART:20180409T021500Z
DTEND:20180409T040000Z
LOCATION:JBWere, Level 16/101 Collins St, Melbourne, VIC, 3000, Australia,
SUMMARY:"Two Journeys: The Planet and The Sun" with Adventurer Michael Smith
DESCRIPTION:via video conference with HCA in Sydney
BEGIN:VALARM
TRIGGER:-PT15M
ACTION:DISPLAY
END:VALARM
TRANSP:OPAQUE
END:VEVENT
END:VCALENDAR
