BEGIN:VCALENDAR
VERSION:2.0
PRODID:-//OmniMagnetCalendar//EN
BEGIN:VEVENT
DTSTAMP:20190625T195740Z
STATUS:CONFIRMED
UID:hcvictoria.clubs.harvard.edu334
DTSTART:20180529T023000Z
DTEND:20180529T040000Z
LOCATION:The Australian Club, 110 William St , Melbourne, VIC, 3000,
SUMMARY:A special performance by the Harvard University Kroks
DESCRIPTION:at The Australian Club
BEGIN:VALARM
TRIGGER:-PT15M
ACTION:DISPLAY
END:VALARM
TRANSP:OPAQUE
END:VEVENT
END:VCALENDAR
