BEGIN:VCALENDAR
VERSION:2.0
PRODID:-//OmniMagnetCalendar//EN
BEGIN:VEVENT
DTSTAMP:20190625T195740Z
STATUS:CONFIRMED
UID:hcvictoria.clubs.harvard.edu335
DTSTART:20180509T020000Z
DTEND:20180509T043000Z
LOCATION:Eureka 89, Level 89 Eureka Tower, 7 Riverside Quay  , Southbank., VIC,
SUMMARY:“Are For Purpose Organisations Having Impact?” : the Non-Profit Fellowship Lunch and Awards
DESCRIPTION:
BEGIN:VALARM
TRIGGER:-PT15M
ACTION:DISPLAY
END:VALARM
TRANSP:OPAQUE
END:VEVENT
END:VCALENDAR
