BEGIN:VCALENDAR
VERSION:2.0
PRODID:-//OmniMagnetCalendar//EN
BEGIN:VEVENT
DTSTAMP:20190625T195740Z
STATUS:CONFIRMED
UID:hcvictoria.clubs.harvard.edu336
DTSTART:20180531T020000Z
DTEND:20180531T040000Z
LOCATION:ShineWing Australia, Level 10, 530 Collins St, Melbourne, Vic, 3000, Australia,
SUMMARY: Health and Education Opportunities to Strengthen the China-Australia Relationship
DESCRIPTION:
BEGIN:VALARM
TRIGGER:-PT15M
ACTION:DISPLAY
END:VALARM
TRANSP:OPAQUE
END:VEVENT
END:VCALENDAR
