BEGIN:VCALENDAR
VERSION:2.0
PRODID:-//OmniMagnetCalendar//EN
BEGIN:VEVENT
DTSTAMP:20190625T195740Z
STATUS:CONFIRMED
UID:hcvictoria.clubs.harvard.edu338
DTSTART:20180608T023000Z
DTEND:20180608T040000Z
LOCATION:Allens, 37/101 Collins St, Melbourne, Vic, 3000, Australia,
SUMMARY:Making Integration Work
DESCRIPTION:Featuring the Hon Alan Tudge MP
BEGIN:VALARM
TRIGGER:-PT15M
ACTION:DISPLAY
END:VALARM
TRANSP:OPAQUE
END:VEVENT
END:VCALENDAR
