BEGIN:VCALENDAR
VERSION:2.0
PRODID:-//OmniMagnetCalendar//EN
BEGIN:VEVENT
DTSTAMP:20190625T195740Z
STATUS:CONFIRMED
UID:hcvictoria.clubs.harvard.edu340
DTSTART:20180821T080000Z
DTEND:20180821T093000Z
LOCATION:Walter and Eliza Hall Institute, 1G Royal Parade, Parkville, Australia,
SUMMARY:Walter and Eliza Hall Institute Talk and Tour
DESCRIPTION:
BEGIN:VALARM
TRIGGER:-PT15M
ACTION:DISPLAY
END:VALARM
TRANSP:OPAQUE
END:VEVENT
END:VCALENDAR
