BEGIN:VCALENDAR
VERSION:2.0
PRODID:-//OmniMagnetCalendar//EN
BEGIN:VEVENT
DTSTAMP:20190625T195740Z
STATUS:CONFIRMED
UID:hcvictoria.clubs.harvard.edu341
DTSTART:20180829T020000Z
DTEND:20180829T040000Z
LOCATION:ShineWing Australia, Lvl 10/530 Collins St, Melbourne, 3000,
SUMMARY:Old Retail Becoming New: A Global Perspective
DESCRIPTION:
BEGIN:VALARM
TRIGGER:-PT15M
ACTION:DISPLAY
END:VALARM
TRANSP:OPAQUE
END:VEVENT
END:VCALENDAR
