BEGIN:VCALENDAR
VERSION:2.0
PRODID:-//OmniMagnetCalendar//EN
BEGIN:VEVENT
DTSTAMP:20190625T195740Z
STATUS:CONFIRMED
UID:hcvictoria.clubs.harvard.edu343
DTSTART:20181025T073000Z
DTEND:20181025T120000Z
LOCATION:The Arts Centre Melbourne, 100 At St Kilda Rd , Melbourne,
SUMMARY:HCV AGM and Annual Dinner
DESCRIPTION:
BEGIN:VALARM
TRIGGER:-PT15M
ACTION:DISPLAY
END:VALARM
TRANSP:OPAQUE
END:VEVENT
END:VCALENDAR
