BEGIN:VCALENDAR
VERSION:2.0
PRODID:-//OmniMagnetCalendar//EN
BEGIN:VEVENT
DTSTAMP:20190625T195740Z
STATUS:CONFIRMED
UID:hcvictoria.clubs.harvard.edu346
DTSTART:20181101T220000Z
DTEND:20181102T060000Z
LOCATION:ShineWing Australia, Level 10/530 Collins St, Melbourne, VIC, 3000,
SUMMARY:Master Class: Practical Emotional Intelligence for Leaders
DESCRIPTION:
BEGIN:VALARM
TRIGGER:-PT15M
ACTION:DISPLAY
END:VALARM
TRANSP:OPAQUE
END:VEVENT
END:VCALENDAR
