BEGIN:VCALENDAR
VERSION:2.0
PRODID:-//OmniMagnetCalendar//EN
BEGIN:VEVENT
DTSTAMP:20190625T195740Z
STATUS:CONFIRMED
UID:hcvictoria.clubs.harvard.edu349
DTSTART:20181210T070000Z
DTEND:20181210T090000Z
LOCATION:King & Wood Mallesons, 600 Collins St, Melbourne, Vic, 3000,
SUMMARY:Understanding Marketplaces – How Entrepreneurs can build the next Uber
DESCRIPTION:with Professor Scott Duke Kominers
BEGIN:VALARM
TRIGGER:-PT15M
ACTION:DISPLAY
END:VALARM
TRANSP:OPAQUE
END:VEVENT
END:VCALENDAR
