BEGIN:VCALENDAR
VERSION:2.0
PRODID:-//OmniMagnetCalendar//EN
BEGIN:VEVENT
DTSTAMP:20190625T195740Z
STATUS:CONFIRMED
UID:hcvictoria.clubs.harvard.edu350
DTSTART:20190117T070000Z
DTEND:20190117T090000Z
LOCATION:Arts@Collins, Level 1, 417 Collins Street, , Melbourne, Vic, 3000, Australia,
SUMMARY: Harvard Global Networking Night
DESCRIPTION:
BEGIN:VALARM
TRIGGER:-PT15M
ACTION:DISPLAY
END:VALARM
TRANSP:OPAQUE
END:VEVENT
END:VCALENDAR
