BEGIN:VCALENDAR
VERSION:2.0
PRODID:-//OmniMagnetCalendar//EN
BEGIN:VEVENT
DTSTAMP:20190625T195740Z
STATUS:CONFIRMED
UID:hcvictoria.clubs.harvard.edu351
DTSTART:20190215T010000Z
DTEND:20190215T030000Z
LOCATION:
SUMMARY:Behavioural Insights and Gender Equality
DESCRIPTION:with Professor Iris Bohnet
BEGIN:VALARM
TRIGGER:-PT15M
ACTION:DISPLAY
END:VALARM
TRANSP:OPAQUE
END:VEVENT
END:VCALENDAR
