BEGIN:VCALENDAR
VERSION:2.0
PRODID:-//OmniMagnetCalendar//EN
BEGIN:VEVENT
DTSTAMP:20190625T195740Z
STATUS:CONFIRMED
UID:hcvictoria.clubs.harvard.edu357
DTSTART:20190721T063000Z
DTEND:20190721T080000Z
LOCATION:CBD Location, near the Westin Melbourne,
SUMMARY:Harvard Prof Frank Clooney in conversation: “Religion, Interreligiousity, Peace, and Conflict"
DESCRIPTION:
BEGIN:VALARM
TRIGGER:-PT15M
ACTION:DISPLAY
END:VALARM
TRANSP:OPAQUE
END:VEVENT
END:VCALENDAR
