BEGIN:VCALENDAR
VERSION:2.0
PRODID:-//OmniMagnetCalendar//EN
BEGIN:VEVENT
DTSTAMP:20190625T195740Z
STATUS:CONFIRMED
UID:hcvictoria.clubs.harvard.edu358
DTSTART:20190808T073000Z
DTEND:20190808T091500Z
LOCATION:Allens, Level 37, 101 Collins St, Melbourne, Australia,
SUMMARY:Harvard and Australia - the most recent and the earliest connections, Thursday 8th August
DESCRIPTION:with Professor David Haig
BEGIN:VALARM
TRIGGER:-PT15M
ACTION:DISPLAY
END:VALARM
TRANSP:OPAQUE
END:VEVENT
END:VCALENDAR
