BEGIN:VCALENDAR
VERSION:2.0
PRODID:-//OmniMagnetCalendar//EN
BEGIN:VEVENT
DTSTAMP:20190625T195740Z
STATUS:CONFIRMED
UID:hcvictoria.clubs.harvard.edu359
DTSTART:20191010T073000Z
DTEND:20191010T113000Z
LOCATION:The Terrace @ The Botanical Gardens, Gate A, Alexandra Ave & Anderson St, South Yarra, VIC, 3141,
SUMMARY:HCV AGM and Annual Dinner
DESCRIPTION:
BEGIN:VALARM
TRIGGER:-PT15M
ACTION:DISPLAY
END:VALARM
TRANSP:OPAQUE
END:VEVENT
END:VCALENDAR
