BEGIN:VCALENDAR
VERSION:2.0
PRODID:-//OmniMagnetCalendar//EN
BEGIN:VEVENT
DTSTAMP:20190625T195740Z
STATUS:CONFIRMED
UID:hcvictoria.clubs.harvard.edu362
DTSTART:20190918T013000Z
DTEND:20190918T043000Z
LOCATION:Hall & Wilcox, Level 11, Rialto South Tower, 525 Collins Street,, Melbourne, VIC, 3000, Australia,
SUMMARY:First Annual HCV Sports Lecture
DESCRIPTION:
BEGIN:VALARM
TRIGGER:-PT15M
ACTION:DISPLAY
END:VALARM
TRANSP:OPAQUE
END:VEVENT
END:VCALENDAR
