BEGIN:VCALENDAR
VERSION:2.0
PRODID:-//OmniMagnetCalendar//EN
BEGIN:VEVENT
DTSTAMP:20190625T195740Z
STATUS:CONFIRMED
UID:hcvictoria.clubs.harvard.edu366
DTSTART:20191121T173000Z
DTEND:20191121T190000Z
LOCATION:Athenaeum Club, 87 Collins Street, Melbourne, Melbourne, 3000, Australia,
SUMMARY:Lunch with Michael Sharp and Ralph Doubell (MBA ‘74)
DESCRIPTION:
BEGIN:VALARM
TRIGGER:-PT15M
ACTION:DISPLAY
END:VALARM
TRANSP:OPAQUE
END:VEVENT
END:VCALENDAR
