BEGIN:VCALENDAR
VERSION:2.0
PRODID:-//OmniMagnetCalendar//EN
BEGIN:VEVENT
DTSTAMP:20190625T195740Z
STATUS:CONFIRMED
UID:hcvictoria.clubs.harvard.edu369
DTSTART:20191129T010000Z
DTEND:20191129T030000Z
LOCATION:ShineWing Australia, L10, 530 Collins Street, Melbourne, Vic, 3000, Australia,
SUMMARY: Beyond shareholder value: The emerging sustainable enterprise
DESCRIPTION:
BEGIN:VALARM
TRIGGER:-PT15M
ACTION:DISPLAY
END:VALARM
TRANSP:OPAQUE
END:VEVENT
END:VCALENDAR
