BEGIN:VCALENDAR
VERSION:2.0
PRODID:-//OmniMagnetCalendar//EN
BEGIN:VEVENT
DTSTAMP:20190625T195740Z
STATUS:CONFIRMED
UID:hcvictoria.clubs.harvard.edu371
DTSTART:20200306T170000Z
DTEND:
LOCATION:Allens, Flr 37/101 Collins St , Melbourne, VIC, 3000, Australia,
SUMMARY:Lyndsey Cattermole (AM): Career Reflections
DESCRIPTION:
BEGIN:VALARM
TRIGGER:-PT15M
ACTION:DISPLAY
END:VALARM
TRANSP:OPAQUE
END:VEVENT
END:VCALENDAR
