BEGIN:VCALENDAR
VERSION:2.0
PRODID:-//OmniMagnetCalendar//EN
BEGIN:VEVENT
DTSTAMP:20190625T195740Z
STATUS:CONFIRMED
UID:hcvictoria.clubs.harvard.edu372
DTSTART:20200227T063000Z
DTEND:20200227T083000Z
LOCATION:Coopers Investments, Level 1, 60 Collins St, Melbourne, VIC, 3000, Australia,
SUMMARY:“A Tremendous Stir: Theft, Privilege, and the Death of a Harvard Secret Society”
DESCRIPTION:
BEGIN:VALARM
TRIGGER:-PT15M
ACTION:DISPLAY
END:VALARM
TRANSP:OPAQUE
END:VEVENT
END:VCALENDAR
