BEGIN:VCALENDAR
VERSION:2.0
PRODID:-//OmniMagnetCalendar//EN
BEGIN:VEVENT
DTSTAMP:20190625T195740Z
STATUS:CONFIRMED
UID:hcvictoria.clubs.harvard.edu384
DTSTART:20200818T020039Z
DTEND:
LOCATION:
SUMMARY:Harvard Club of San Diego Book Club
DESCRIPTION:The Second Founding:  How the Civil War and Reconstruction Remade the Constitution
BEGIN:VALARM
TRIGGER:-PT15M
ACTION:DISPLAY
END:VALARM
TRANSP:OPAQUE
END:VEVENT
END:VCALENDAR
