BEGIN:VCALENDAR
VERSION:2.0
PRODID:-//OmniMagnetCalendar//EN
BEGIN:VEVENT
DTSTAMP:20190625T195740Z
STATUS:CONFIRMED
UID:hcvictoria.clubs.harvard.edu385
DTSTART:20200819T223039Z
DTEND:
LOCATION:
SUMMARY:Harvard Club of Georgia Book Club - August
DESCRIPTION:The Triumph of Injustice by Gabriel Zucman
BEGIN:VALARM
TRIGGER:-PT15M
ACTION:DISPLAY
END:VALARM
TRANSP:OPAQUE
END:VEVENT
END:VCALENDAR
