BEGIN:VCALENDAR
VERSION:2.0
PRODID:-//OmniMagnetCalendar//EN
BEGIN:VEVENT
DTSTAMP:20190625T195740Z
STATUS:CONFIRMED
UID:hcvictoria.clubs.harvard.edu386
DTSTART:20200821T020048Z
DTEND:20200821T040048Z
LOCATION:
SUMMARY:OxBridge vs Harvard/Yale Team Trivia Challenge Match
DESCRIPTION:by The Harvard Club of San Diego and Oxford and Cambridge Society of San Diego
BEGIN:VALARM
TRIGGER:-PT15M
ACTION:DISPLAY
END:VALARM
TRANSP:OPAQUE
END:VEVENT
END:VCALENDAR
