BEGIN:VCALENDAR
VERSION:2.0
PRODID:-//OmniMagnetCalendar//EN
BEGIN:VEVENT
DTSTAMP:20190625T195740Z
STATUS:CONFIRMED
UID:hcvictoria.clubs.harvard.edu387
DTSTART:20200827T220038Z
DTEND:20200827T233038Z
LOCATION:
SUMMARY:The Reverse Underground Railroad:  A Conversation with Prof. Richard Bell, Ph.D. '06
DESCRIPTION:Presented by The Harvard Club of Washington
BEGIN:VALARM
TRIGGER:-PT15M
ACTION:DISPLAY
END:VALARM
TRANSP:OPAQUE
END:VEVENT
END:VCALENDAR
