BEGIN:VCALENDAR
VERSION:2.0
PRODID:-//OmniMagnetCalendar//EN
BEGIN:VEVENT
DTSTAMP:20190625T195740Z
STATUS:CONFIRMED
UID:hcvictoria.clubs.harvard.edu389
DTSTART:20200923T230058Z
DTEND:20200924T000058Z
LOCATION:
SUMMARY:Online Marketplaces in the Age of COVID
DESCRIPTION:with Professor Scott Kominers and Matt Vitale
BEGIN:VALARM
TRIGGER:-PT15M
ACTION:DISPLAY
END:VALARM
TRANSP:OPAQUE
END:VEVENT
END:VCALENDAR
